BEGIN:VCALENDAR
VERSION:2.0
PRODID:-//ruach.jetzt - ECPv6.15.20//NONSGML v1.0//EN
CALSCALE:GREGORIAN
METHOD:PUBLISH
X-WR-CALNAME:ruach.jetzt
X-ORIGINAL-URL:https://ruach.jetzt
X-WR-CALDESC:Veranstaltungen für ruach.jetzt
REFRESH-INTERVAL;VALUE=DURATION:PT1H
X-Robots-Tag:noindex
X-PUBLISHED-TTL:PT1H
BEGIN:VTIMEZONE
TZID:Europe/Berlin
BEGIN:DAYLIGHT
TZOFFSETFROM:+0100
TZOFFSETTO:+0200
TZNAME:CEST
DTSTART:20240331T010000
END:DAYLIGHT
BEGIN:STANDARD
TZOFFSETFROM:+0200
TZOFFSETTO:+0100
TZNAME:CET
DTSTART:20241027T010000
END:STANDARD
BEGIN:DAYLIGHT
TZOFFSETFROM:+0100
TZOFFSETTO:+0200
TZNAME:CEST
DTSTART:20250330T010000
END:DAYLIGHT
BEGIN:STANDARD
TZOFFSETFROM:+0200
TZOFFSETTO:+0100
TZNAME:CET
DTSTART:20251026T010000
END:STANDARD
BEGIN:DAYLIGHT
TZOFFSETFROM:+0100
TZOFFSETTO:+0200
TZNAME:CEST
DTSTART:20260329T010000
END:DAYLIGHT
BEGIN:STANDARD
TZOFFSETFROM:+0200
TZOFFSETTO:+0100
TZNAME:CET
DTSTART:20261025T010000
END:STANDARD
END:VTIMEZONE
BEGIN:VEVENT
DTSTART;TZID=Europe/Berlin:20250504T113000
DTEND;TZID=Europe/Berlin:20250504T120000
DTSTAMP:20260423T203318
CREATED:20250315T200043Z
LAST-MODIFIED:20250315T200043Z
UID:10000092-1746358200-1746360000@ruach.jetzt
SUMMARY:Kirchentag: Nachklang zum Abschlussgottesdienst mit Mira Ungewitter
DESCRIPTION:Nachklang\nMusik und Interviews\n\n\n\nModeration:\nDr. Julian Sengelmann\, Pastor und Schauspieler\, Hamburg\nMira Ungewitter\, Pastorin Projekt:Gemeinde\, Wien/Österreich
URL:https://ruach.jetzt/event/kirchentag-nachklang-zum-abschlussgottesdienst-mit-mira-ungewitter/
LOCATION:Kirchentag Hannover\, Hannover\, Germany
CATEGORIES:Kirchentag
END:VEVENT
BEGIN:VEVENT
DTSTART;TZID=Europe/Berlin:20250504T090000
DTEND;TZID=Europe/Berlin:20250504T100000
DTSTAMP:20260423T203318
CREATED:20250315T195936Z
LAST-MODIFIED:20250315T195936Z
UID:10000091-1746349200-1746352800@ruach.jetzt
SUMMARY:Kirchentag: Einstimmung zum Abschlussgottesdienst mit Mira Ungewitter
DESCRIPTION:Einstimmung\nMusik und Interviews\n\n\n\nModeration:\nDr. Julian Sengelmann\, Pastor und Schauspieler\, Hamburg\nMira Ungewitter\, Pastorin Projekt:Gemeinde\, Wien/Österreich
URL:https://ruach.jetzt/event/kirchentag-einstimmung-zum-abschlussgottesdienst-mit-mira-ungewitter/
LOCATION:Kirchentag Hannover\, Hannover\, Germany
CATEGORIES:Kirchentag
END:VEVENT
BEGIN:VEVENT
DTSTART;TZID=Europe/Berlin:20250503T203000
DTEND;TZID=Europe/Berlin:20250503T213000
DTSTAMP:20260423T203318
CREATED:20250315T195758Z
LAST-MODIFIED:20250315T195758Z
UID:10000090-1746304200-1746307800@ruach.jetzt
SUMMARY:Kirchentag: Lesung mit Marco Michalzik
DESCRIPTION:Wir werden alle verwandelt werden\nPolitische Texte über Scham\, Nächstenliebe und Toleranz\n\n\n\nMarco Michalzik\, Spoken-Word-Künstler\, Wien/Österreich
URL:https://ruach.jetzt/event/kirchentag-lesung-mit-marco-michalzik/
LOCATION:Kirchentag Hannover\, Hannover\, Germany
CATEGORIES:Kirchentag
END:VEVENT
BEGIN:VEVENT
DTSTART;TZID=Europe/Berlin:20250503T200000
DTEND;TZID=Europe/Berlin:20250503T213000
DTSTAMP:20260423T203318
CREATED:20250315T194437Z
LAST-MODIFIED:20250315T194437Z
UID:10000083-1746302400-1746307800@ruach.jetzt
SUMMARY:Kirchentag: Lesung und Gespräch mit Julia Schönbeck\, Josephine Teske u.a.
DESCRIPTION:Gemeinsam anders – für eine vielfältige und gerechte Zukunft\nBuchpremiere zur Veröffentlichung des Sammelbandes\n\n\n\nJudy Bailey\, Musikerin\, Alpen\nLilly Blaudszun\, politische Influencerin\, Berlin\nAusten Peter Brandt\, Pfarrer\, Duisburg\nQuinton Ceasar\, Pastor\, Wiesmoor\nPatrick Depuhl\, Musiker\, Alpen\nNathalie Eleyth\, Rassismusforscherin und Theologin\, Bochum\nJulia Schönbeck\, Theologiestudentin\, Stadthagen\nDr. Kerstin Söderblom\, Hochschulpfarrerin\, Mainz\nJosephine Teske\, Pastorin und Autorin\, Hamburg\nSarah Vecera\, Referentin Rassismus und Kirche Vereinigte Ev. Mission\, Wuppertal\nDetlev Zander\, Sprecher der Gruppe der betroffenen Personen im Beteiligungsforum Sexualisierte Gewalt in der EKD\, Plattling\n\n\nModeration:\nThea Hummel\, Koordinatorin für Diversität und Inklusion Vereinte Ev. Mission\, Wuppertal
URL:https://ruach.jetzt/event/kirchentag-lesung-und-gespraech-mit-julia-schoenbeck-josephine-teske-u-a/
LOCATION:Kirchentag Hannover\, Hannover\, Germany
CATEGORIES:Kirchentag
END:VEVENT
BEGIN:VEVENT
DTSTART;TZID=Europe/Berlin:20250503T170000
DTEND;TZID=Europe/Berlin:20250503T183000
DTSTAMP:20260423T203318
CREATED:20250315T195611Z
LAST-MODIFIED:20250315T195611Z
UID:10000089-1746291600-1746297000@ruach.jetzt
SUMMARY:Kirchentag: Stückwerk Live-Podcast
DESCRIPTION:tückwerk – interaktiv\nDer Podcast mit Predigtimpulsen\n\nZugangsticket notwendig. Für mehr Informationen siehe Hinweise von A-Z: Workshophaus\n\n\n\nEsther Auer\, Pfarrerin\, Mössingen\nHannah von Brockdorff\, Pfarrerin\, Burgthann\nAstrid Edel\, Pfarrerin und Theaterwissenschaftlerin\, Tübingen
URL:https://ruach.jetzt/event/kirchentag-stueckwerk-live-podcast/
LOCATION:Kirchentag Hannover\, Hannover\, Germany
CATEGORIES:Kirchentag
END:VEVENT
BEGIN:VEVENT
DTSTART;TZID=Europe/Berlin:20250503T150000
DTEND;TZID=Europe/Berlin:20250503T170000
DTSTAMP:20260423T203318
CREATED:20250315T195246Z
LAST-MODIFIED:20250315T195246Z
UID:10000087-1746284400-1746291600@ruach.jetzt
SUMMARY:Kirchentag: Podium "Was\, wenn es keine Kirche gäbe?" mit Josephine Teske u.a.
DESCRIPTION:Was\, wenn es keine Kirche gäbe?\nLust auf Verlust und die Sehnsucht nach Neuem\n\nLive-Übertragung. Für mehr Informationen siehe Hinweise von A bis Z\n\n\n\nAnne-Maria Apelt\, Trauerrednerin und Naturritualleiterin\, Werben/Spreewald\nJonny Baker\, Schriftsteller und Direktor Church Mission Society\, London/Großbritannien\nMargot Flügel-Anhalt\, Abenteurerin und Sozialpädagogin\, Sontra\nJosephine Teske\, Pastorin und Autorin\, Hamburg\n\n\nModeration:\nDr. Friederike Erichsen-Wendt\, Oberkirchenrätin\, Hannover\n\n\nAnwältinnen des Publikums:\nSabine Erle\, Klein Lengden\nKristin Köhler\, Barsinghausen\n\n\nMusik:\nOle Magers\, Hannover
URL:https://ruach.jetzt/event/kirchentag-podium-was-wenn-es-keine-kirche-gaebe-mit-josephine-teske-u-a/
LOCATION:Kirchentag Hannover\, Hannover\, Germany
CATEGORIES:Kirchentag
END:VEVENT
BEGIN:VEVENT
DTSTART;TZID=Europe/Berlin:20250503T150000
DTEND;TZID=Europe/Berlin:20250503T170000
DTSTAMP:20260423T203318
CREATED:20250315T194617Z
LAST-MODIFIED:20250315T194617Z
UID:10000084-1746284400-1746291600@ruach.jetzt
SUMMARY:Kirchentag: Podium "Gewaltraum Kirche" mit Julia Schönbeck u.a.
DESCRIPTION:Gewaltraum Kirche\nOhne Macht Gott denken\n\n\n\nD. Bich Nhi Rentzsch\, Theologin\, Kleve\nJulia Schönbeck\, Theologiestudentin\, Stadthagen\nProf. Dr. Gerhard Schreiber\, Theologe\, Sozial- und Technikethiker\, Hamburg\nMatthias Schwarz\, Betroffenenvertretung im Beteiligungsforum Sexualisierte Gewalt der Ev. Kirche in Deutschland (EKD)\, Pohlheim\nProf. Dr. Heike Springhart\, Landesbischöfin\, Karlsruhe\n\n\n\nModeration:\nDr. Alena Höfer\, Theologin\, Schwerpunkt Mehrfachdiskriminierungen\, Schwerte\n\n\nAnwältin und Anwalt des Publikums:\nMartin Franke-Coulbeaut\, Darmstadt\nLuisa Kappes\, Wuppertal\n\n\n\nMusik:\nRoland Baumgarte\, Isernhagen
URL:https://ruach.jetzt/event/kirchentag-podium-gewaltraum-kirche-mit-julia-schoenbeck-u-a/
LOCATION:Kirchentag Hannover\, Hannover\, Germany
CATEGORIES:Kirchentag
END:VEVENT
BEGIN:VEVENT
DTSTART;TZID=Europe/Berlin:20250503T130000
DTEND;TZID=Europe/Berlin:20250503T140000
DTSTAMP:20260423T203318
CREATED:20250315T195439Z
LAST-MODIFIED:20250315T195439Z
UID:10000088-1746277200-1746280800@ruach.jetzt
SUMMARY:Kirchentag: Gott im Serienhimmel Live-Podcast mit Janna Horstmann u.a.
DESCRIPTION:Gott im Serienhimmel\nWas uns Netflix-Serien über Gott und die Welt sagen\n\n\n\nJakob Friedrichs\, Gemeindepädagoge und Autor\, Eschborn\nJanna Horstmann\, Autorin und Pfarrerin\, Zürich/Schweiz\nDr. Manuel Schmid\, Theologe und Podcaster\, Zürich/Schweiz
URL:https://ruach.jetzt/event/kirchentag-gott-im-serienhimmel-live-podcast-mit-janna-horstmann-u-a/
LOCATION:Kirchentag Hannover\, Hannover\, Germany
END:VEVENT
BEGIN:VEVENT
DTSTART;TZID=Europe/Berlin:20250503T110000
DTEND;TZID=Europe/Berlin:20250503T130000
DTSTAMP:20260423T203318
CREATED:20250317T142016Z
LAST-MODIFIED:20250317T142016Z
UID:10000099-1746270000-1746277200@ruach.jetzt
SUMMARY:Kirchentag: Podium "Kinder\, Krisen\, Kurve kriegen" mit Tim Lahr
DESCRIPTION:Kinder\, Krisen\, Kurve kriegen\nWas passiert mit meiner Welt?\n\nZeitgleich findet ein Kinderpodium für Kinder bis zu 12 Jahren im hinteren Teil des Kirchraums statt.\n\n\nImpuls:\nCarsten Breuer\, Generalinspekteur der Bundeswehr\, Berlin\n\n\nPodium:\nJana Berger\, Geschäftsführende Gesellschafterin familienfreundliche-arbeitgeber.de\, Eichendorf\nTim Lahr\, Pfarrer und Influencer\, Köln\nProf. Dr. C. Katharina Spieß\, Direktorin Bundesinstitut für Bevölkerungsforschung\, Wiesbaden\n\n\nModeration:\nEllen Radtke\, Pastorin und Mitbegründerin Anders Amen\, Osnabrück
URL:https://ruach.jetzt/event/kirchentag-podium-kinder-krisen-kurve-kriegen-mit-tim-lahr/
LOCATION:Kirchentag Hannover\, Hannover\, Germany
CATEGORIES:Kirchentag
END:VEVENT
BEGIN:VEVENT
DTSTART;TZID=Europe/Berlin:20250503T110000
DTEND;TZID=Europe/Berlin:20250503T130000
DTSTAMP:20260423T203318
CREATED:20250315T194926Z
LAST-MODIFIED:20250315T194926Z
UID:10000086-1746270000-1746277200@ruach.jetzt
SUMMARY:Kirchentag: Podium "Und wenn sie/er/es schweigt?" mit Jason Liesendahl u.a.
DESCRIPTION:Und wenn sie/er/es schweigt?\nVorstellungen von G’tt heute\n\n\n\nHenriette Crüwell\, Pröpstin Rheinhessen und Nassauer Land\, Mainz\nJason Liesendahl\, Prozesstheologe und Podcaster\, Offenbach\nProf. Dr. Thomas M. Schmidt\, Religionsphilosoph\, Frankfurt/Main\nBr. Paulus Terwitte OFMCap\, München\n\n\nModeration:\nProf. Dr. Johann Hinrich Claussen\, Kulturbeauftragter Rat der Ev. Kirche in Deutschland (EKD)\, Berlin\n\n\nMusik:\nDarius Rossol\, Köln
URL:https://ruach.jetzt/event/kirchentag-podium-und-wenn-sie-er-es-schweigt-mit-jason-liesendahl-u-a/
LOCATION:Kirchentag Hannover\, Hannover\, Germany
CATEGORIES:Kirchentag
END:VEVENT
BEGIN:VEVENT
DTSTART;TZID=Europe/Berlin:20250503T103000
DTEND;TZID=Europe/Berlin:20250503T183000
DTSTAMP:20260423T203318
CREATED:20250315T201313Z
LAST-MODIFIED:20250315T201313Z
UID:10000096-1746268200-1746297000@ruach.jetzt
SUMMARY:Kirchentag: ruach.jetzt Stand 6-F23
DESCRIPTION:
URL:https://ruach.jetzt/event/kirchentag-ruach-jetzt-stand-6-f23-3/
LOCATION:Kirchentag Hannover\, Hannover\, Germany
CATEGORIES:Kirchentag
END:VEVENT
BEGIN:VEVENT
DTSTART;TZID=Europe/Berlin:20250502T203000
DTEND;TZID=Europe/Berlin:20250502T213000
DTSTAMP:20260423T203318
CREATED:20250315T194234Z
LAST-MODIFIED:20250315T194234Z
UID:10000082-1746217800-1746221400@ruach.jetzt
SUMMARY:Kirchentag: Lesung "Nicht ohne uns" mit Julia Schönbeck u.a.
DESCRIPTION:Nicht ohne uns\nInklusion und Teilhabe in der Kirche\n\n\n\nLena Müller\, Pfarrerin und Internetaktivistin\, Berlin\nJulia Schönbeck\, Theologiestudentin\, Stadthagen
URL:https://ruach.jetzt/event/kirchentag-lesung-nicht-ohne-uns-mit-julia-schoenbeck-u-a/
LOCATION:Kirchentag Hannover\, Hannover\, Germany
CATEGORIES:Kirchentag
END:VEVENT
BEGIN:VEVENT
DTSTART;TZID=Europe/Berlin:20250502T200000
DTEND;TZID=Europe/Berlin:20250502T220000
DTSTAMP:20260423T203318
CREATED:20250315T194756Z
LAST-MODIFIED:20250424T090522Z
UID:10000085-1746216000-1746223200@ruach.jetzt
SUMMARY:Kirchentag: Mitmachforum "Trotzdem bekennen?!" mit Jason Liesendahl u.a.
DESCRIPTION:Trotzdem bekennen?!\nWenn Glaubensüberzeugungen brüchig werden\n\nDas Apostolische Bekenntnis fasst den christlichen Glauben in drei Artikeln zusammen. Tragen sie noch? In Impulsen und Tischgesprächen suchen wir gemeinsam nach Antworten\, die Sinn stiften und Halt geben.\n\n\nImpulse:\nViola von Boehn\, Systematische Theologin\, Heidelberg\nDr. Katrin König\, Systematische Theologin\, Heidelberg\nJason Liesendahl\, Prozesstheologe und Podcaster\, Offenbach\nDr. Stephan Schaede\, Vizepräsident Kirchenamt Ev. Kirche in Deutschland (EKD)\, Hannover\n\n\nModeration:\nDr. Christian Brouwer\, Superintendent\, Hannover\nJulia Meister\, Systematische Theologin\, Büsum\n\n\nMusik:\nHabakuk\, Frankfurt/Main
URL:https://ruach.jetzt/event/kirchentag-mitmachforum-trotzdem-bekennen-mit-jason-liesendahl-u-a/
LOCATION:Kirchentag Hannover\, Hannover\, Germany
CATEGORIES:Kirchentag
END:VEVENT
BEGIN:VEVENT
DTSTART;TZID=Europe/Berlin:20250502T170000
DTEND;TZID=Europe/Berlin:20250502T183000
DTSTAMP:20260423T203318
CREATED:20250315T193655Z
LAST-MODIFIED:20250315T193655Z
UID:10000079-1746205200-1746210600@ruach.jetzt
SUMMARY:Kirchentag: Workshop Smash Purity Culture mit Nana Myrrhe
DESCRIPTION:Smash purity culture\nChristliche Keuschheitsideale hinterfragen\n\n\n\nNana Myrrhe\, Podcasterin\, München
URL:https://ruach.jetzt/event/kirchentag-workshop-smash-purity-culture-mit-nana-myrrhe/
LOCATION:Kirchentag Hannover\, Hannover\, Germany
CATEGORIES:Kirchentag
END:VEVENT
BEGIN:VEVENT
DTSTART;TZID=Europe/Berlin:20250502T170000
DTEND;TZID=Europe/Berlin:20250502T180000
DTSTAMP:20260423T203318
CREATED:20250315T193909Z
LAST-MODIFIED:20250315T193909Z
UID:10000080-1746205200-1746208800@ruach.jetzt
SUMMARY:Kirchentag: Poetry Talk mit Leah Weigand\, Marco Michalzik u.a.
DESCRIPTION:Poetry Talk\nSpoken Word trifft Lesung und Gespräch\n\n\nJasmin Brückner\, Halle/Saale\nTabitha Hanan\, Berlin\nMicha Kunze\, Köln\nMarco Michalzik\, Wien/Österreich\nGofi Müller\, Marburg\nLeah Weigand\, Marburg
URL:https://ruach.jetzt/event/kirchentag-poetry-talk-mit-leah-weigand-marco-michalzik-u-a/
LOCATION:Kirchentag Hannover\, Hannover\, Germany
CATEGORIES:Kirchentag
END:VEVENT
BEGIN:VEVENT
DTSTART;TZID=Europe/Berlin:20250502T150000
DTEND;TZID=Europe/Berlin:20250502T170000
DTSTAMP:20260423T203318
CREATED:20250315T193456Z
LAST-MODIFIED:20250315T193456Z
UID:10000078-1746198000-1746205200@ruach.jetzt
SUMMARY:Kirchentag: Podium mit Theresa Brückner\, Jonas Simmerlein\, Tobias Sauer u.a.
DESCRIPTION:Wenn nur das Digitale bleibt\nGlaube\, Liebe\, Hoffnung und das Digitale bleibt\n\nLive-Übertragung. Für mehr Informationen siehe Hinweise von A bis Z\n\n\n\nDie Zukunftsfrage\nJonas Simmerlein\, Theologe\, Zürich/Schweiz\n\n\nDie Praxis\nTheresa Brückner\, Pfarrerin und Influencerin\, Berlin\n\n\nDie wissenschaftliche Perspektive\nProf. Dr. Christine Wenona Hoffmann\, Praktische Theologin\, Frankfurt/Main\n\n\nDie Transformation\nFelix Goldinger\, Mitbegründer Da-zwischen Community\, Speyer\n\n\nModeration:\nAline Knapp\, Theologin\, Köln\nTobias Sauer\, Theologe und Initiator ruach.jetzt\, Trier
URL:https://ruach.jetzt/event/kirchentag-podium-mit-theresa-brueckner-jonas-simmerlein-tobias-sauer-u-a/
LOCATION:Kirchentag Hannover\, Hannover\, Germany
CATEGORIES:Kirchentag
END:VEVENT
BEGIN:VEVENT
DTSTART;TZID=Europe/Berlin:20250502T150000
DTEND;TZID=Europe/Berlin:20250502T170000
DTSTAMP:20260423T203318
CREATED:20250315T193247Z
LAST-MODIFIED:20250315T193247Z
UID:10000077-1746198000-1746205200@ruach.jetzt
SUMMARY:Kirchentag: Podium mit Katharina Mutzbauer u.a.
DESCRIPTION:Die heilsame Kraft von Spiritualität\nSpiritualität im Kontext von Krisen und Alltag\n\n\n\nAnne Höfler\, Gründerin Open Hands Schule\, Lindau\nKatharina Mutzbauer\, Theologin und Yogalehrerin\, Düsseldorf\nDenise Rieckmann\, Podcasterin und Pilgerbegleiterin\, Eggolsheim\nPierre Stutz\, Theologe und Autor\, Osnabrück\n\n\nModeration:\nMichael Kaminski\, Pilgerbegleiter und Religionspädagoge\, München\n\n\nAnwältin und Anwalt des Publikums:\nAnne Bergmann\, Hamburg\nChristine Tergau-Harms\, Hannover\nDr. Jochen Wagner\, Frankfurt/Main\n\n\nMusik:\nClemens Bittlinger und Band\, Rimbach
URL:https://ruach.jetzt/event/kirchentag-podium-mit-katharina-mutzbauer-u-a/
LOCATION:Kirchentag Hannover\, Hannover\, Germany
CATEGORIES:Kirchentag
END:VEVENT
BEGIN:VEVENT
DTSTART;TZID=Europe/Berlin:20250502T110000
DTEND;TZID=Europe/Berlin:20250502T121500
DTSTAMP:20260423T203318
CREATED:20250424T094447Z
LAST-MODIFIED:20250424T094447Z
UID:10000100-1746183600-1746188100@ruach.jetzt
SUMMARY:Kirchentag: Feministische und queere Held:innen mit fAk
DESCRIPTION:Offen für alle\, mit persönlicher Segnung\n\n\n\nGestaltung:\nfAk – feministisches Andachtskollektiv\, Berlin\n\n\nMusik:\nGloria Blau\, Berlin
URL:https://ruach.jetzt/event/kirchentag-feministische-und-queere-heldinnen-mit-fak/
LOCATION:Kirchentag Hannover\, Hannover\, Germany
END:VEVENT
BEGIN:VEVENT
DTSTART;TZID=Europe/Berlin:20250502T110000
DTEND;TZID=Europe/Berlin:20250502T120000
DTSTAMP:20260423T203318
CREATED:20250315T194038Z
LAST-MODIFIED:20250315T194038Z
UID:10000081-1746183600-1746187200@ruach.jetzt
SUMMARY:Kirchentag: Lesung mit Leah Weigand\, Marco Michalzik u.a.
DESCRIPTION:Spoken Word\nÜber Mut und das Lautsein\n\n\n\nJasmin Brückner\, Halle/Saale\nTabitha Hanan\, Berlin\nMicha Kunze\, Köln\nMarco Michalzik\, Wien/Österreich\nGofi Müller\, Marburg\nLeah Weigand\, Marburg
URL:https://ruach.jetzt/event/kirchentag-lesung-mit-leah-weigand-marco-michalzik-u-a/
LOCATION:Kirchentag Hannover\, Hannover\, Germany
CATEGORIES:Kirchentag
END:VEVENT
END:VCALENDAR