BEGIN:VCALENDAR
VERSION:2.0
PRODID:-//ruach.jetzt - ECPv6.15.20//NONSGML v1.0//EN
CALSCALE:GREGORIAN
METHOD:PUBLISH
X-WR-CALNAME:ruach.jetzt
X-ORIGINAL-URL:https://ruach.jetzt
X-WR-CALDESC:Veranstaltungen für ruach.jetzt
REFRESH-INTERVAL;VALUE=DURATION:PT1H
X-Robots-Tag:noindex
X-PUBLISHED-TTL:PT1H
BEGIN:VTIMEZONE
TZID:Europe/Berlin
BEGIN:DAYLIGHT
TZOFFSETFROM:+0100
TZOFFSETTO:+0200
TZNAME:CEST
DTSTART:20250330T010000
END:DAYLIGHT
BEGIN:STANDARD
TZOFFSETFROM:+0200
TZOFFSETTO:+0100
TZNAME:CET
DTSTART:20251026T010000
END:STANDARD
BEGIN:DAYLIGHT
TZOFFSETFROM:+0100
TZOFFSETTO:+0200
TZNAME:CEST
DTSTART:20260329T010000
END:DAYLIGHT
BEGIN:STANDARD
TZOFFSETFROM:+0200
TZOFFSETTO:+0100
TZNAME:CET
DTSTART:20261025T010000
END:STANDARD
BEGIN:DAYLIGHT
TZOFFSETFROM:+0100
TZOFFSETTO:+0200
TZNAME:CEST
DTSTART:20270328T010000
END:DAYLIGHT
BEGIN:STANDARD
TZOFFSETFROM:+0200
TZOFFSETTO:+0100
TZNAME:CET
DTSTART:20271031T010000
END:STANDARD
END:VTIMEZONE
BEGIN:VEVENT
DTSTART;TZID=Europe/Berlin:20260504T150000
DTEND;TZID=Europe/Berlin:20260504T153000
DTSTAMP:20260423T154022
CREATED:20260422T122124Z
LAST-MODIFIED:20260422T131916Z
UID:10000102-1777906800-1777908600@ruach.jetzt
SUMMARY:Kostenloses Webinar: Neue Wege in der Erstkommunion und Familienkatechese
DESCRIPTION:Die aktuelle Saison neigt sich dem Ende zu und die Planung für die kommenden Jahrgänge beginnt. Doch die Realität in der Pastoral ist oft herausfordernd: Es fehlen Ehrenamtliche\, die Zeitbudgets der Familien sind knapp und traditionelle Modelle greifen oft nicht mehr. Wie kann eine zeitgemäße Pastoral aussehen\, die Familien wirklich erreicht\, sie empowert und gleichzeitig Hauptamtliche spürbar entlastet? \nIn unserem kompakten Webinar zeigen wir euch\, wie das gelingen kann. Wir stellen euch zwei innovative und praxiserprobte Konzepte vor\, die den Glauben genau dorthin bringen\, wo religiöse Prägung primär stattfindet: in die Familien und an den heimischen Esstisch. \nDas erwartet euch in der Praxis-Vorstellung:\nMission: Erstkommunion: Ein völlig neu gedachter Erstkommunionkurs. Im Zentrum stehen 12 persönliche Briefe von Maria aus Magdala\, die heimlich in die Briefkästen der Kinder eingeworfen werden. Wir zeigen euch\, wie ihr Eltern zu echten „Komplizen“ macht und warum ihr mit diesem fertigen Konzept eure Vorbereitungszeit für Gruppenstunden auf ein Minimum reduziert. \nDie Voller Wunder Box: Unser Projekt für eine alltagstaugliche\, kreative Familienkatechese. Wir werfen einen Blick in die Box und zeigen\, wie ihr spirituelle und verbindende Momente unkompliziert in den Alltag von Familien integrieren könnt. \nEure Experten und Speaker:\n \nWir stellen gemeinsam mit unseren Kooperationspartnern die beiden Projekte vor. Unser Kooperationspartner für „Mission: Erstkommunion“ ist das Referat Katechese – Evangelisierung\, Glaubenskommunikation und Verkündigung vom Bistum Mainz mit ihrem Referenten Aaron Torner. \nDie Volle Wunder Box haben wir im Auftrag und in Zusammenarbeit mit dem Pastoralen Raum Bernkastel-Kues des Bistums Trier entwickelt. Pastoralreferent Roland Hinzmann hat das Projekt von Anfang an mitbegleitet und nutzt die Volle Wunder Box schon in seiner Arbeit. \nKommt vorbei\, lasst euch inspirieren und nehmt konkrete\, direkt umsetzbare Ideen für die Planung in eurer Pfarrei mit! \nWann: Am 4. Mai von 15 – 16 Uhr\, digital\nOrt: Google Meet – Link & Einladung erhalten Sie via Mail nach Anmeldung \nDu kannst an dem Termin nicht? Kein Problem. Weitere Webinare sind am:\n  \n 
URL:https://ruach.jetzt/event/kostenloses-webinar-neue-wege-in-der-erstkommunion-und-familienkatechese/
CATEGORIES:Webinar
ATTACH;FMTTYPE=image/jpeg:https://ruach.jetzt/wp-content/uploads/2026/04/Header-Webinar.jpg
LOCATION:https://meet.google.com/cbz-vapg-eoi
END:VEVENT
BEGIN:VEVENT
DTSTART;TZID=Europe/Berlin:20260508T090000
DTEND;TZID=Europe/Berlin:20260508T093000
DTSTAMP:20260423T154022
CREATED:20260422T130623Z
LAST-MODIFIED:20260422T131910Z
UID:10000103-1778230800-1778232600@ruach.jetzt
SUMMARY:Kostenloses Webinar: Neue Wege in der Erstkommunion und Familienkatechese
DESCRIPTION:Die aktuelle Saison neigt sich dem Ende zu und die Planung für die kommenden Jahrgänge beginnt. Doch die Realität in der Pastoral ist oft herausfordernd: Es fehlen Ehrenamtliche\, die Zeitbudgets der Familien sind knapp und traditionelle Modelle greifen oft nicht mehr. Wie kann eine zeitgemäße Pastoral aussehen\, die Familien wirklich erreicht\, sie empowert und gleichzeitig Hauptamtliche spürbar entlastet? \nIn unserem kompakten Webinar zeigen wir euch\, wie das gelingen kann. Wir stellen euch zwei innovative und praxiserprobte Konzepte vor\, die den Glauben genau dorthin bringen\, wo religiöse Prägung primär stattfindet: in die Familien und an den heimischen Esstisch. \nDas erwartet euch in der Praxis-Vorstellung:\nMission: Erstkommunion: Ein völlig neu gedachter Erstkommunionkurs. Im Zentrum stehen 12 persönliche Briefe von Maria aus Magdala\, die heimlich in die Briefkästen der Kinder eingeworfen werden. Wir zeigen euch\, wie ihr Eltern zu echten „Komplizen“ macht und warum ihr mit diesem fertigen Konzept eure Vorbereitungszeit für Gruppenstunden auf ein Minimum reduziert. \nDie Voller Wunder Box: Unser Projekt für eine alltagstaugliche\, kreative Familienkatechese. Wir werfen einen Blick in die Box und zeigen\, wie ihr spirituelle und verbindende Momente unkompliziert in den Alltag von Familien integrieren könnt. \nEure Experten und Speaker:\n \nWir stellen gemeinsam mit unseren Kooperationspartnern die beiden Projekte vor. Unser Kooperationspartner für „Mission: Erstkommunion“ ist das Referat Katechese – Evangelisierung\, Glaubenskommunikation und Verkündigung vom Bistum Mainz mit ihrem Referenten Aaron Torner. \nDie Volle Wunder Box haben wir im Auftrag und in Zusammenarbeit mit dem Pastoralen Raum Bernkastel-Kues des Bistums Trier entwickelt. Pastoralreferent Roland Hinzmann hat das Projekt von Anfang an mitbegleitet und nutzt die Volle Wunder Box schon in seiner Arbeit. \nKommt vorbei\, lasst euch inspirieren und nehmt konkrete\, direkt umsetzbare Ideen für die Planung in eurer Pfarrei mit! \nWann: Am 4. Mai von 15 – 16 Uhr\, digital\nOrt: Google Meet – Link & Einladung erhalten Sie via Mail nach Anmeldung \nDu kannst an dem Termin nicht? Kein Problem. Weitere Webinare sind am:\n  \n 
URL:https://ruach.jetzt/event/kostenloses-webinar-neue-wege-in-der-erstkommunion-und-familienkatechese-8mai2026/
CATEGORIES:Webinar
ATTACH;FMTTYPE=image/jpeg:https://ruach.jetzt/wp-content/uploads/2026/04/Header-Webinar.jpg
LOCATION:https://meet.google.com/wds-vkhj-kkj
END:VEVENT
BEGIN:VEVENT
DTSTART;TZID=Europe/Berlin:20260512T120000
DTEND;TZID=Europe/Berlin:20260512T123000
DTSTAMP:20260423T154022
CREATED:20260422T131019Z
LAST-MODIFIED:20260422T131903Z
UID:10000104-1778587200-1778589000@ruach.jetzt
SUMMARY:Kostenloses Webinar: Neue Wege in der Erstkommunion und Familienkatechese
DESCRIPTION:Die aktuelle Saison neigt sich dem Ende zu und die Planung für die kommenden Jahrgänge beginnt. Doch die Realität in der Pastoral ist oft herausfordernd: Es fehlen Ehrenamtliche\, die Zeitbudgets der Familien sind knapp und traditionelle Modelle greifen oft nicht mehr. Wie kann eine zeitgemäße Pastoral aussehen\, die Familien wirklich erreicht\, sie empowert und gleichzeitig Hauptamtliche spürbar entlastet? \nIn unserem kompakten Webinar zeigen wir euch\, wie das gelingen kann. Wir stellen euch zwei innovative und praxiserprobte Konzepte vor\, die den Glauben genau dorthin bringen\, wo religiöse Prägung primär stattfindet: in die Familien und an den heimischen Esstisch. \nDas erwartet euch in der Praxis-Vorstellung:\nMission: Erstkommunion: Ein völlig neu gedachter Erstkommunionkurs. Im Zentrum stehen 12 persönliche Briefe von Maria aus Magdala\, die heimlich in die Briefkästen der Kinder eingeworfen werden. Wir zeigen euch\, wie ihr Eltern zu echten „Komplizen“ macht und warum ihr mit diesem fertigen Konzept eure Vorbereitungszeit für Gruppenstunden auf ein Minimum reduziert. \nDie Voller Wunder Box: Unser Projekt für eine alltagstaugliche\, kreative Familienkatechese. Wir werfen einen Blick in die Box und zeigen\, wie ihr spirituelle und verbindende Momente unkompliziert in den Alltag von Familien integrieren könnt. \nEure Experten und Speaker:\n \nWir stellen gemeinsam mit unseren Kooperationspartnern die beiden Projekte vor. Unser Kooperationspartner für „Mission: Erstkommunion“ ist das Referat Katechese – Evangelisierung\, Glaubenskommunikation und Verkündigung vom Bistum Mainz mit ihrem Referenten Aaron Torner. \nDie Volle Wunder Box haben wir im Auftrag und in Zusammenarbeit mit dem Pastoralen Raum Bernkastel-Kues des Bistums Trier entwickelt. Pastoralreferent Roland Hinzmann hat das Projekt von Anfang an mitbegleitet und nutzt die Volle Wunder Box schon in seiner Arbeit. \nKommt vorbei\, lasst euch inspirieren und nehmt konkrete\, direkt umsetzbare Ideen für die Planung in eurer Pfarrei mit! \nWann: Am 4. Mai von 15 – 16 Uhr\, digital\nOrt: Google Meet – Link & Einladung erhalten Sie via Mail nach Anmeldung \nDu kannst an dem Termin nicht? Kein Problem. Weitere Webinare sind am:\n  \n 
URL:https://ruach.jetzt/event/kostenloses-webinar-neue-wege-in-der-erstkommunion-und-familienkatechese-12mai2026/
CATEGORIES:Webinar
ATTACH;FMTTYPE=image/jpeg:https://ruach.jetzt/wp-content/uploads/2026/04/Header-Webinar.jpg
LOCATION:https://meet.google.com/nuw-gfhx-nsk
END:VEVENT
END:VCALENDAR